BEGIN:VCALENDAR
VERSION:2.0
PRODID:-//NHHS - Norges Handelshøyskoles Studentforening - ECPv6.15.20//NONSGML v1.0//EN
CALSCALE:GREGORIAN
METHOD:PUBLISH
X-ORIGINAL-URL:https://nhhs.no
X-WR-CALDESC:Arrangement for NHHS - Norges Handelshøyskoles Studentforening
REFRESH-INTERVAL;VALUE=DURATION:PT1H
X-Robots-Tag:noindex
X-PUBLISHED-TTL:PT1H
BEGIN:VTIMEZONE
TZID:Europe/Oslo
BEGIN:DAYLIGHT
TZOFFSETFROM:+0100
TZOFFSETTO:+0200
TZNAME:CEST
DTSTART:20240331T010000
END:DAYLIGHT
BEGIN:STANDARD
TZOFFSETFROM:+0200
TZOFFSETTO:+0100
TZNAME:CET
DTSTART:20241027T010000
END:STANDARD
BEGIN:DAYLIGHT
TZOFFSETFROM:+0100
TZOFFSETTO:+0200
TZNAME:CEST
DTSTART:20250330T010000
END:DAYLIGHT
BEGIN:STANDARD
TZOFFSETFROM:+0200
TZOFFSETTO:+0100
TZNAME:CET
DTSTART:20251026T010000
END:STANDARD
BEGIN:DAYLIGHT
TZOFFSETFROM:+0100
TZOFFSETTO:+0200
TZNAME:CEST
DTSTART:20260329T010000
END:DAYLIGHT
BEGIN:STANDARD
TZOFFSETFROM:+0200
TZOFFSETTO:+0100
TZNAME:CET
DTSTART:20261025T010000
END:STANDARD
END:VTIMEZONE
BEGIN:VEVENT
DTSTART;TZID=Europe/Oslo:20251201T120000
DTEND;TZID=Europe/Oslo:20251201T130000
DTSTAMP:20260422T035056
CREATED:20251121T231452Z
LAST-MODIFIED:20251130T234437Z
UID:14539-1764590400-1764594000@nhhs.no
SUMMARY:Jul i svingen & Snacks (Avbrekk) (In Norwegian)
DESCRIPTION:
URL:https://nhhs.no/arrangement/jul-i-svingen-snacks-avbrekk-in-norwegian/
CATEGORIES:Avbrekk
END:VEVENT
BEGIN:VEVENT
DTSTART;TZID=Europe/Oslo:20251202T093000
DTEND;TZID=Europe/Oslo:20251202T123000
DTSTAMP:20260422T035056
CREATED:20251118T225939Z
LAST-MODIFIED:20251201T234429Z
UID:14518-1764667800-1764678600@nhhs.no
SUMMARY:Stand w/SAMMEN (Avbrekk)
DESCRIPTION:
URL:https://nhhs.no/arrangement/stand-w-sammen-avbrekk/
CATEGORIES:Avbrekk
END:VEVENT
BEGIN:VEVENT
DTSTART;TZID=Europe/Oslo:20251203T121500
DTEND;TZID=Europe/Oslo:20251203T130000
DTSTAMP:20260422T035056
CREATED:20251030T232938Z
LAST-MODIFIED:20251202T234437Z
UID:14357-1764764100-1764766800@nhhs.no
SUMMARY:Christmas Concert w/Sangria (Avbrekk)
DESCRIPTION:Find information about registrations and everything happening in Avbrekk here: https://fb.me/e/8AoBhav4L
URL:https://nhhs.no/arrangement/christmas-concert-w-sangria-avbrekk/
LOCATION:The Main Entrance (NHH)
CATEGORIES:Avbrekk
END:VEVENT
BEGIN:VEVENT
DTSTART;TZID=Europe/Oslo:20251203T170000
DTEND;TZID=Europe/Oslo:20251203T190000
DTSTAMP:20260422T035056
CREATED:20251111T235928Z
LAST-MODIFIED:20251202T234437Z
UID:14472-1764781200-1764788400@nhhs.no
SUMMARY:Complain n sip w/SPU (Avbrekk)
DESCRIPTION:Find more information about everything happening in Avbrekk here: https://fb.me/e/8AoBhav4L
URL:https://nhhs.no/arrangement/complain-n-sip-w-spu-avbrekk/
CATEGORIES:Avbrekk
END:VEVENT
BEGIN:VEVENT
DTSTART;TZID=Europe/Oslo:20251203T190000
DTEND;TZID=Europe/Oslo:20251203T200000
DTSTAMP:20260422T035056
CREATED:20251030T232938Z
LAST-MODIFIED:20251202T234437Z
UID:14355-1764788400-1764792000@nhhs.no
SUMMARY:Hike with Opptur (Avbrekk)
DESCRIPTION:Find information about registrations and everything happening in Avbrekk here: https://fb.me/e/8AoBhav4L
URL:https://nhhs.no/arrangement/hike-with-opptur-avbrekk-2/
CATEGORIES:Avbrekk
END:VEVENT
BEGIN:VEVENT
DTSTART;TZID=Europe/Oslo:20251204T100000
DTEND;TZID=Europe/Oslo:20251204T140000
DTSTAMP:20260422T035056
CREATED:20251105T235935Z
LAST-MODIFIED:20251203T234437Z
UID:14420-1764842400-1764856800@nhhs.no
SUMMARY:Massage (Avbrekk)
DESCRIPTION:Registration and more information will be posted here: https://fb.me/e/8AoBhav4L
URL:https://nhhs.no/arrangement/massage-avbrekk-2/
CATEGORIES:Avbrekk
END:VEVENT
BEGIN:VEVENT
DTSTART;TZID=Europe/Oslo:20251204T130000
DTEND;TZID=Europe/Oslo:20251204T140000
DTSTAMP:20260422T035056
CREATED:20251110T235932Z
LAST-MODIFIED:20251203T234437Z
UID:14459-1764853200-1764856800@nhhs.no
SUMMARY:Exam Lunch! (Avbrekk)
DESCRIPTION:Registration and more information will be posted here: https://fb.me/e/8AoBhav4L
URL:https://nhhs.no/arrangement/exam-lunch-avbrekk-2/
CATEGORIES:Avbrekk
END:VEVENT
BEGIN:VEVENT
DTSTART;TZID=Europe/Oslo:20251205T180000
DTEND;TZID=Europe/Oslo:20251205T193000
DTSTAMP:20260422T035056
CREATED:20251027T231437Z
LAST-MODIFIED:20251204T234449Z
UID:14313-1764957600-1764963000@nhhs.no
SUMMARY:Galvan Mehidi - Et Takkebrev til Saddam (Avbrekk)
DESCRIPTION:The event is in norwegian!Find information about registrations and everything happening in Avbrekk here: https://fb.me/e/8AoBhav4L
URL:https://nhhs.no/arrangement/galvan-mehidi-et-takkebrev-til-saddam-avbrekk/
CATEGORIES:Avbrekk
END:VEVENT
BEGIN:VEVENT
DTSTART;TZID=Europe/Oslo:20251208T100000
DTEND;TZID=Europe/Oslo:20251208T140000
DTSTAMP:20260422T035056
CREATED:20251030T232938Z
LAST-MODIFIED:20251207T234429Z
UID:14358-1765188000-1765202400@nhhs.no
SUMMARY:Dog-cuddling w/Studentombudet (Avbrekk)
DESCRIPTION:Find information about registrations and everything happening in Avbrekk here: https://fb.me/e/8AoBhav4L
URL:https://nhhs.no/arrangement/dog-cuddling-w-studentombudet-avbrekk/
CATEGORIES:Avbrekk
END:VEVENT
BEGIN:VEVENT
DTSTART;TZID=Europe/Oslo:20251208T173000
DTEND;TZID=Europe/Oslo:20251208T183000
DTSTAMP:20260422T035056
CREATED:20251122T232958Z
LAST-MODIFIED:20251207T234429Z
UID:14551-1765215000-1765218600@nhhs.no
SUMMARY:Spinning w/NHHI Sykkel (Avbrekk)
DESCRIPTION:
URL:https://nhhs.no/arrangement/spinning-w-nhhi-sykkel-avbrekk/
CATEGORIES:Avbrekk
END:VEVENT
BEGIN:VEVENT
DTSTART;TZID=Europe/Oslo:20251209T070000
DTEND;TZID=Europe/Oslo:20251209T080000
DTSTAMP:20260422T035056
CREATED:20251111T235928Z
LAST-MODIFIED:20251208T235924Z
UID:14473-1765263600-1765267200@nhhs.no
SUMMARY:Morningcoffe with Symposiet (Avbrekk)
DESCRIPTION:
URL:https://nhhs.no/arrangement/morningcoffe-with-symposiet-avbrekk/
CATEGORIES:Avbrekk
END:VEVENT
BEGIN:VEVENT
DTSTART;TZID=Europe/Oslo:20251209T113000
DTEND;TZID=Europe/Oslo:20251209T123000
DTSTAMP:20260422T035056
CREATED:20251027T231437Z
LAST-MODIFIED:20251208T235925Z
UID:14314-1765279800-1765283400@nhhs.no
SUMMARY:Lunch and Christmas calendar viewing (Avbrekk)
DESCRIPTION:The event is in norwegian!Find information about registrations and everything happening in Avbrekk here: https://fb.me/e/8AoBhav4L
URL:https://nhhs.no/arrangement/lunch-and-christmas-calendar-viewing-avbrekk/
CATEGORIES:Avbrekk
END:VEVENT
BEGIN:VEVENT
DTSTART;TZID=Europe/Oslo:20251209T180000
DTEND;TZID=Europe/Oslo:20251209T190000
DTSTAMP:20260422T035056
CREATED:20251107T235930Z
LAST-MODIFIED:20251208T235925Z
UID:14435-1765303200-1765306800@nhhs.no
SUMMARY:Pilates with NHHI Pilates (Avbrekk)
DESCRIPTION:Registration and more information will be posted here: https://fb.me/e/8AoBhav4L
URL:https://nhhs.no/arrangement/pilates-with-nhhi-pilates-avbrekk/
CATEGORIES:Avbrekk
END:VEVENT
BEGIN:VEVENT
DTSTART;TZID=Europe/Oslo:20251210T100000
DTEND;TZID=Europe/Oslo:20251210T120000
DTSTAMP:20260422T035056
CREATED:20251208T235925Z
LAST-MODIFIED:20251209T235927Z
UID:14651-1765360800-1765368000@nhhs.no
SUMMARY:Coffee and snacks w/ The Financial Board (Avbrekk)
DESCRIPTION:
URL:https://nhhs.no/arrangement/coffee-and-snacks-w-the-financial-board-avbrekk/
CATEGORIES:Avbrekk
END:VEVENT
BEGIN:VEVENT
DTSTART;TZID=Europe/Oslo:20251210T160000
DTEND;TZID=Europe/Oslo:20251210T180000
DTSTAMP:20260422T035056
CREATED:20251111T235929Z
LAST-MODIFIED:20251209T235927Z
UID:14474-1765382400-1765389600@nhhs.no
SUMMARY:Sauna Cruise (Avbrekk)
DESCRIPTION:Find more information about everything happening in Avbrekk here: https://fb.me/e/8AoBhav4L
URL:https://nhhs.no/arrangement/sauna-cruise-avbrekk-2/
CATEGORIES:Avbrekk
END:VEVENT
BEGIN:VEVENT
DTSTART;TZID=Europe/Oslo:20251212T203000
DTEND;TZID=Europe/Oslo:20251212T220000
DTSTAMP:20260422T035056
CREATED:20251027T231437Z
LAST-MODIFIED:20251211T235930Z
UID:14315-1765571400-1765576800@nhhs.no
SUMMARY:Julebord med Terningkast 3 (Avbrekk)
DESCRIPTION:The event is in norwegian!Find information about registrations and everything happening in Avbrekk here: https://fb.me/e/8AoBhav4L
URL:https://nhhs.no/arrangement/julebord-med-terningkast-3-avbrekk/
CATEGORIES:Avbrekk
END:VEVENT
BEGIN:VEVENT
DTSTART;VALUE=DATE:20251215
DTEND;VALUE=DATE:20251216
DTSTAMP:20260422T035056
CREATED:20250929T205943Z
LAST-MODIFIED:20251215T155935Z
UID:13887-1765756800-1765843199@nhhs.no
SUMMARY:EXAM PARTY
DESCRIPTION:
URL:https://nhhs.no/arrangement/exam-party/
CATEGORIES:NHHS
END:VEVENT
BEGIN:VEVENT
DTSTART;TZID=Europe/Oslo:20251215T120000
DTEND;TZID=Europe/Oslo:20251215T130000
DTSTAMP:20260422T035056
CREATED:20251030T232939Z
LAST-MODIFIED:20251214T235927Z
UID:14360-1765800000-1765803600@nhhs.no
SUMMARY:Christmas porrige w/ Bergen CHallenge (Avbrekk)
DESCRIPTION:Find information about registrations and everything happening in Avbrekk here: https://fb.me/e/8AoBhav4L
URL:https://nhhs.no/arrangement/christmas-porrige-w-bergen-challenge-avbrekk/
LOCATION:The Mirror Hall (NHH) (Speilsalen)
CATEGORIES:Avbrekk
END:VEVENT
END:VCALENDAR