BEGIN:VCALENDAR
VERSION:2.0
PRODID:-//NHHS - Norges Handelshøyskoles Studentforening - ECPv6.15.20//NONSGML v1.0//EN
CALSCALE:GREGORIAN
METHOD:PUBLISH
X-WR-CALNAME:NHHS - Norges Handelshøyskoles Studentforening
X-ORIGINAL-URL:https://nhhs.no
X-WR-CALDESC:Arrangement for NHHS - Norges Handelshøyskoles Studentforening
REFRESH-INTERVAL;VALUE=DURATION:PT1H
X-Robots-Tag:noindex
X-PUBLISHED-TTL:PT1H
BEGIN:VTIMEZONE
TZID:Europe/Oslo
BEGIN:DAYLIGHT
TZOFFSETFROM:+0100
TZOFFSETTO:+0200
TZNAME:CEST
DTSTART:20240331T010000
END:DAYLIGHT
BEGIN:STANDARD
TZOFFSETFROM:+0200
TZOFFSETTO:+0100
TZNAME:CET
DTSTART:20241027T010000
END:STANDARD
BEGIN:DAYLIGHT
TZOFFSETFROM:+0100
TZOFFSETTO:+0200
TZNAME:CEST
DTSTART:20250330T010000
END:DAYLIGHT
BEGIN:STANDARD
TZOFFSETFROM:+0200
TZOFFSETTO:+0100
TZNAME:CET
DTSTART:20251026T010000
END:STANDARD
BEGIN:DAYLIGHT
TZOFFSETFROM:+0100
TZOFFSETTO:+0200
TZNAME:CEST
DTSTART:20260329T010000
END:DAYLIGHT
BEGIN:STANDARD
TZOFFSETFROM:+0200
TZOFFSETTO:+0100
TZNAME:CET
DTSTART:20261025T010000
END:STANDARD
END:VTIMEZONE
BEGIN:VEVENT
DTSTART;TZID=Europe/Oslo:20251104T100000
DTEND;TZID=Europe/Oslo:20251104T140000
DTSTAMP:20260422T034841
CREATED:20251027T231436Z
LAST-MODIFIED:20251103T235931Z
UID:14308-1762250400-1762264800@nhhs.no
SUMMARY:Opening stand (Avbrekk)
DESCRIPTION:Find information about registrations and everything happening in Avbrekk here: https://fb.me/e/8AoBhav4L
URL:https://nhhs.no/arrangement/opening-stand-avbrekk-2/
CATEGORIES:Avbrekk
END:VEVENT
BEGIN:VEVENT
DTSTART;TZID=Europe/Oslo:20251105T160000
DTEND;TZID=Europe/Oslo:20251105T180000
DTSTAMP:20260422T034841
CREATED:20251029T231430Z
LAST-MODIFIED:20251104T235931Z
UID:14335-1762358400-1762365600@nhhs.no
SUMMARY:Workout w/ NHHI Padel (Avbrekk)
DESCRIPTION:Find information about registrations and everything happening in Avbrekk here: https://fb.me/e/8AoBhav4L
URL:https://nhhs.no/arrangement/trening-med-nhhi-padel-avbrekk/
LOCATION:Pro Padel Åsane\, Liavegen 1B\, 5132 Nyborg\, Norge
CATEGORIES:Avbrekk
END:VEVENT
BEGIN:VEVENT
DTSTART;TZID=Europe/Oslo:20251106T163000
DTEND;TZID=Europe/Oslo:20251106T235500
DTSTAMP:20260422T034841
CREATED:20250929T205432Z
LAST-MODIFIED:20251106T221425Z
UID:13847-1762446600-1762473300@nhhs.no
SUMMARY:Pareto Securities
DESCRIPTION:
URL:https://nhhs.no/arrangement/pareto-securities/
CATEGORIES:Karriere
END:VEVENT
BEGIN:VEVENT
DTSTART;TZID=Europe/Oslo:20251106T170000
DTEND;TZID=Europe/Oslo:20251106T190000
DTSTAMP:20260422T034841
CREATED:20251029T231431Z
LAST-MODIFIED:20251105T235934Z
UID:14337-1762448400-1762455600@nhhs.no
SUMMARY:Avalanche Safety Night w/Lurken (Avbrekk)
DESCRIPTION:Find information about registrations and everything happening in Avbrekk here: https://fb.me/e/8AoBhav4L
URL:https://nhhs.no/arrangement/avalanche-safety-night-w-lurken-avbrekk/
LOCATION:Aud Q\, NHH
CATEGORIES:Avbrekk
END:VEVENT
BEGIN:VEVENT
DTSTART;TZID=Europe/Oslo:20251107T120000
DTEND;TZID=Europe/Oslo:20251107T140000
DTSTAMP:20260422T034841
CREATED:20251102T234508Z
LAST-MODIFIED:20251106T235934Z
UID:14385-1762516800-1762524000@nhhs.no
SUMMARY:Rafto Panel Discussion (Avbrekk)
DESCRIPTION:Find information about registrations and everything happening in Avbrekk here: https://fb.me/e/8AoBhav4L
URL:https://nhhs.no/arrangement/rafto-panel-discussion-avbrekk/
CATEGORIES:Avbrekk
END:VEVENT
BEGIN:VEVENT
DTSTART;TZID=Europe/Oslo:20251112T071500
DTEND;TZID=Europe/Oslo:20251112T080000
DTSTAMP:20260422T034841
CREATED:20251105T235934Z
LAST-MODIFIED:20251111T235926Z
UID:14417-1762931700-1762934400@nhhs.no
SUMMARY:Pilates with Unni (Avbrekk)
DESCRIPTION:Registration and more information will be posted here: https://fb.me/e/8AoBhav4L
URL:https://nhhs.no/arrangement/pilates-with-unni-avbrekk-2/
CATEGORIES:Avbrekk
END:VEVENT
BEGIN:VEVENT
DTSTART;TZID=Europe/Oslo:20251112T120000
DTEND;TZID=Europe/Oslo:20251112T140000
DTSTAMP:20260422T034841
CREATED:20251029T231431Z
LAST-MODIFIED:20251111T235927Z
UID:14338-1762948800-1762956000@nhhs.no
SUMMARY:Hangboard-competition with Klarte- and Tindeklubben (Avbrekk)
DESCRIPTION:Find information about registrations and everything happening in Avbrekk here: https://fb.me/e/8AoBhav4L
URL:https://nhhs.no/arrangement/hangboard-competition-with-klarte-and-tindeklubben-avbrekk/
LOCATION:Speilsalen\, NHH
CATEGORIES:Avbrekk
END:VEVENT
BEGIN:VEVENT
DTSTART;TZID=Europe/Oslo:20251113T080000
DTEND;TZID=Europe/Oslo:20251113T090000
DTSTAMP:20260422T034841
CREATED:20251027T231437Z
LAST-MODIFIED:20251112T235933Z
UID:14309-1763020800-1763024400@nhhs.no
SUMMARY:Morning run w/ Stafkom (Avbrekk)
DESCRIPTION:Find information about registrations and everything happening in Avbrekk here: https://fb.me/e/8AoBhav4L
URL:https://nhhs.no/arrangement/morning-run-w-stafkom-avbrekk/
CATEGORIES:Avbrekk
END:VEVENT
BEGIN:VEVENT
DTSTART;TZID=Europe/Oslo:20251117T120000
DTEND;TZID=Europe/Oslo:20251117T140000
DTSTAMP:20260422T034841
CREATED:20251027T231437Z
LAST-MODIFIED:20251116T225944Z
UID:14310-1763380800-1763388000@nhhs.no
SUMMARY:UKEN (Avbrekk)
DESCRIPTION:Find information about registrations and everything happening in Avbrekk here: https://fb.me/e/8AoBhav4L
URL:https://nhhs.no/arrangement/porridge-w-uken-avbrekk/
CATEGORIES:Avbrekk
END:VEVENT
BEGIN:VEVENT
DTSTART;TZID=Europe/Oslo:20251117T150000
DTEND;TZID=Europe/Oslo:20251117T170000
DTSTAMP:20260422T034841
CREATED:20251105T235934Z
LAST-MODIFIED:20251116T225944Z
UID:14418-1763391600-1763398800@nhhs.no
SUMMARY:Sauna Cruise (Avbrekk)
DESCRIPTION:Registration and more information will be posted here: https://fb.me/e/8AoBhav4L
URL:https://nhhs.no/arrangement/sauna-cruise-avbrekk/
CATEGORIES:Avbrekk
END:VEVENT
BEGIN:VEVENT
DTSTART;TZID=Europe/Oslo:20251118T100000
DTEND;TZID=Europe/Oslo:20251118T140000
DTSTAMP:20260422T034841
CREATED:20251105T235935Z
LAST-MODIFIED:20251117T225941Z
UID:14419-1763460000-1763474400@nhhs.no
SUMMARY:Massage (Avbrekk)
DESCRIPTION:Registration and more information will be posted here: https://fb.me/e/8AoBhav4L
URL:https://nhhs.no/arrangement/massage-avbrekk/
CATEGORIES:Avbrekk
END:VEVENT
BEGIN:VEVENT
DTSTART;TZID=Europe/Oslo:20251119T180000
DTEND;TZID=Europe/Oslo:20251119T200000
DTSTAMP:20260422T034841
CREATED:20251029T231431Z
LAST-MODIFIED:20251118T225938Z
UID:14339-1763575200-1763582400@nhhs.no
SUMMARY:Night-swim at Nordnes Sjøbad w/Lurken (Avbrekk)
DESCRIPTION:Find information about registrations and everything happening in Avbrekk here: https://fb.me/e/8AoBhav4L
URL:https://nhhs.no/arrangement/night-swim-at-nordnes-sjobad-w-lurken-avbrekk/
CATEGORIES:Avbrekk
END:VEVENT
BEGIN:VEVENT
DTSTART;TZID=Europe/Oslo:20251120T120000
DTEND;TZID=Europe/Oslo:20251120T140000
DTSTAMP:20260422T034841
CREATED:20251110T235931Z
LAST-MODIFIED:20251119T231458Z
UID:14455-1763640000-1763647200@nhhs.no
SUMMARY:Stand w/ NHH Aid (Avbrekk)
DESCRIPTION:Find more information about everything happening here: https://fb.me/e/8AoBhav4L
URL:https://nhhs.no/arrangement/stand-w-nhh-aid-avbrekk/
CATEGORIES:Avbrekk
END:VEVENT
BEGIN:VEVENT
DTSTART;TZID=Europe/Oslo:20251121T083000
DTEND;TZID=Europe/Oslo:20251121T093000
DTSTAMP:20260422T034841
CREATED:20251114T225954Z
LAST-MODIFIED:20251120T231440Z
UID:14495-1763713800-1763717400@nhhs.no
SUMMARY:Snacks with NHHI (Avbrekk)
DESCRIPTION:
URL:https://nhhs.no/arrangement/snacks-with-nhhi-avbrekk/
CATEGORIES:Avbrekk
END:VEVENT
BEGIN:VEVENT
DTSTART;TZID=Europe/Oslo:20251121T083000
DTEND;TZID=Europe/Oslo:20251121T093000
DTSTAMP:20260422T034841
CREATED:20251114T225954Z
LAST-MODIFIED:20251114T225954Z
UID:14496-1763713800-1763717400@nhhs.no
SUMMARY:Snacks with NHHI (Avbrekk)
DESCRIPTION:
URL:https://nhhs.no/arrangement/snacks-with-nhhi-avbrekk-2/
CATEGORIES:Avbrekk
END:VEVENT
BEGIN:VEVENT
DTSTART;TZID=Europe/Oslo:20251124T120000
DTEND;TZID=Europe/Oslo:20251124T130000
DTSTAMP:20260422T034841
CREATED:20251110T235931Z
LAST-MODIFIED:20251123T232949Z
UID:14456-1763985600-1763989200@nhhs.no
SUMMARY:Exam lunch! (Avbrekk)
DESCRIPTION:Registration and more information will be posted here: https://fb.me/e/8AoBhav4L
URL:https://nhhs.no/arrangement/exam-lunch-avbrekk/
CATEGORIES:Avbrekk
END:VEVENT
BEGIN:VEVENT
DTSTART;TZID=Europe/Oslo:20251125T083000
DTEND;TZID=Europe/Oslo:20251125T093000
DTSTAMP:20260422T034841
CREATED:20251111T235927Z
LAST-MODIFIED:20251124T232944Z
UID:14468-1764059400-1764063000@nhhs.no
SUMMARY:Breakfast with the Rectorate (Avbrekk)
DESCRIPTION:
URL:https://nhhs.no/arrangement/breakfast-with-the-rectorate-avbrekk-2/
CATEGORIES:Avbrekk
END:VEVENT
BEGIN:VEVENT
DTSTART;TZID=Europe/Oslo:20251125T181500
DTEND;TZID=Europe/Oslo:20251125T191500
DTSTAMP:20260422T034841
CREATED:20251027T231437Z
LAST-MODIFIED:20251124T232944Z
UID:14311-1764094500-1764098100@nhhs.no
SUMMARY:Evening run w/ Stafkom (Avbrekk)
DESCRIPTION:Find information about registrations and everything happening in Avbrekk here: https://fb.me/e/8AoBhav4L
URL:https://nhhs.no/arrangement/evening-run-w-stafkom-avbrekk/
CATEGORIES:Avbrekk
END:VEVENT
BEGIN:VEVENT
DTSTART;TZID=Europe/Oslo:20251126T100000
DTEND;TZID=Europe/Oslo:20251126T120000
DTSTAMP:20260422T034841
CREATED:20251122T232957Z
LAST-MODIFIED:20251125T234510Z
UID:14549-1764151200-1764158400@nhhs.no
SUMMARY:Christmas Calender w/Markedsgruppen (Avbrekk)
DESCRIPTION:
URL:https://nhhs.no/arrangement/christmas-calender-w-markedsgruppen-avbrekk/
CATEGORIES:Avbrekk
END:VEVENT
BEGIN:VEVENT
DTSTART;TZID=Europe/Oslo:20251127T070000
DTEND;TZID=Europe/Oslo:20251127T083000
DTSTAMP:20260422T034841
CREATED:20251027T231437Z
LAST-MODIFIED:20251126T234621Z
UID:14312-1764226800-1764232200@nhhs.no
SUMMARY:Gløgg w/ UKEN (Avbrekk)
DESCRIPTION:Find information about registrations and everything happening in Avbrekk here: https://fb.me/e/8AoBhav4L
URL:https://nhhs.no/arrangement/glogg-w-uken-avbrekk/
CATEGORIES:Avbrekk
END:VEVENT
BEGIN:VEVENT
DTSTART;TZID=Europe/Oslo:20251127T080000
DTEND;TZID=Europe/Oslo:20251127T093000
DTSTAMP:20260422T034841
CREATED:20251111T235927Z
LAST-MODIFIED:20251126T234621Z
UID:14469-1764230400-1764235800@nhhs.no
SUMMARY:Swimming w/ NHHI Cheer (Avbrekk)
DESCRIPTION:Find more information about everything happening in Avbrekk here: https://fb.me/e/8AoBhav4L
URL:https://nhhs.no/arrangement/swimming-w-nhhi-cheer-avbrekk/
CATEGORIES:Avbrekk
END:VEVENT
BEGIN:VEVENT
DTSTART;TZID=Europe/Oslo:20251127T100000
DTEND;TZID=Europe/Oslo:20251127T120000
DTSTAMP:20260422T034841
CREATED:20251122T232957Z
LAST-MODIFIED:20251126T234621Z
UID:14550-1764237600-1764244800@nhhs.no
SUMMARY:Christmas Calender w/Markedsgruppen (Avbrekk)
DESCRIPTION:
URL:https://nhhs.no/arrangement/christmas-calender-w-markedsgruppen-avbrekk-2/
CATEGORIES:Avbrekk
END:VEVENT
BEGIN:VEVENT
DTSTART;TZID=Europe/Oslo:20251128T110000
DTEND;TZID=Europe/Oslo:20251128T114500
DTSTAMP:20260422T034841
CREATED:20251030T232938Z
LAST-MODIFIED:20251127T234526Z
UID:14352-1764327600-1764330300@nhhs.no
SUMMARY:Christmas-lunch with The NHH Symposium (Avbrekk)
DESCRIPTION:Find information about registrations and everything happening in Avbrekk here: https://fb.me/e/8AoBhav4L
URL:https://nhhs.no/arrangement/christmas-lunch-with-symposion-avbrekk/
LOCATION:The Mirror Hall (NHH) (Speilsalen)
CATEGORIES:Avbrekk
END:VEVENT
BEGIN:VEVENT
DTSTART;TZID=Europe/Oslo:20251128T120000
DTEND;TZID=Europe/Oslo:20251128T123000
DTSTAMP:20260422T034841
CREATED:20251030T232938Z
LAST-MODIFIED:20251127T234526Z
UID:14354-1764331200-1764333000@nhhs.no
SUMMARY:Concert with Optimum (Avbrekk)
DESCRIPTION:Find information about registrations and everything happening in Avbrekk here: https://fb.me/e/8AoBhav4L
URL:https://nhhs.no/arrangement/concert-with-optimum-avbrekk/
LOCATION:The Main Entrance (NHH)
CATEGORIES:Avbrekk
END:VEVENT
BEGIN:VEVENT
DTSTART;TZID=Europe/Oslo:20251128T160000
DTEND;TZID=Europe/Oslo:20251128T180000
DTSTAMP:20260422T034841
CREATED:20251111T235928Z
LAST-MODIFIED:20251127T234526Z
UID:14471-1764345600-1764352800@nhhs.no
SUMMARY:Exercise w/ NHHI Langrenn (Avbrekk)
DESCRIPTION:Find more information about everything happening in Avbrekk here: https://fb.me/e/8AoBhav4L
URL:https://nhhs.no/arrangement/exercise-w-nhhi-langrenn-avbrekk/
CATEGORIES:Avbrekk
END:VEVENT
END:VCALENDAR