BEGIN:VCALENDAR
VERSION:2.0
PRODID:-//NHHS - Norges Handelshøyskoles Studentforening - ECPv6.15.20//NONSGML v1.0//EN
CALSCALE:GREGORIAN
METHOD:PUBLISH
X-ORIGINAL-URL:https://nhhs.no
X-WR-CALDESC:Arrangement for NHHS - Norges Handelshøyskoles Studentforening
REFRESH-INTERVAL;VALUE=DURATION:PT1H
X-Robots-Tag:noindex
X-PUBLISHED-TTL:PT1H
BEGIN:VTIMEZONE
TZID:Europe/Oslo
BEGIN:DAYLIGHT
TZOFFSETFROM:+0100
TZOFFSETTO:+0200
TZNAME:CEST
DTSTART:20250330T010000
END:DAYLIGHT
BEGIN:STANDARD
TZOFFSETFROM:+0200
TZOFFSETTO:+0100
TZNAME:CET
DTSTART:20251026T010000
END:STANDARD
BEGIN:DAYLIGHT
TZOFFSETFROM:+0100
TZOFFSETTO:+0200
TZNAME:CEST
DTSTART:20260329T010000
END:DAYLIGHT
BEGIN:STANDARD
TZOFFSETFROM:+0200
TZOFFSETTO:+0100
TZNAME:CET
DTSTART:20261025T010000
END:STANDARD
BEGIN:DAYLIGHT
TZOFFSETFROM:+0100
TZOFFSETTO:+0200
TZNAME:CEST
DTSTART:20270328T010000
END:DAYLIGHT
BEGIN:STANDARD
TZOFFSETFROM:+0200
TZOFFSETTO:+0100
TZNAME:CET
DTSTART:20271031T010000
END:STANDARD
END:VTIMEZONE
BEGIN:VEVENT
DTSTART;VALUE=DATE:20260121
DTEND;VALUE=DATE:20260122
DTSTAMP:20260421T230011
CREATED:20260115T220047Z
LAST-MODIFIED:20260121T221435Z
UID:14945-1768953600-1769039999@nhhs.no
SUMMARY:KPMG - Technology Enablement
DESCRIPTION:
URL:https://nhhs.no/arrangement/kpmg-technology-enablement/
CATEGORIES:Karriere
END:VEVENT
BEGIN:VEVENT
DTSTART;VALUE=DATE:20260122
DTEND;VALUE=DATE:20260123
DTSTAMP:20260421T230011
CREATED:20260115T220048Z
LAST-MODIFIED:20260211T080438Z
UID:14946-1769040000-1769126399@nhhs.no
SUMMARY:DNB
DESCRIPTION:
URL:https://nhhs.no/arrangement/dnb/
CATEGORIES:Karriere
END:VEVENT
BEGIN:VEVENT
DTSTART;VALUE=DATE:20260128
DTEND;VALUE=DATE:20260129
DTSTAMP:20260421T230011
CREATED:20260115T220048Z
LAST-MODIFIED:20260128T231447Z
UID:14947-1769558400-1769644799@nhhs.no
SUMMARY:Norfund
DESCRIPTION:
URL:https://nhhs.no/arrangement/norfund/
CATEGORIES:Karriere
END:VEVENT
BEGIN:VEVENT
DTSTART;VALUE=DATE:20260129
DTEND;VALUE=DATE:20260130
DTSTAMP:20260421T230011
CREATED:20260115T220048Z
LAST-MODIFIED:20260129T231443Z
UID:14948-1769644800-1769731199@nhhs.no
SUMMARY:BCG
DESCRIPTION:
URL:https://nhhs.no/arrangement/bcg-2/
CATEGORIES:Karriere
END:VEVENT
END:VCALENDAR