BEGIN:VCALENDAR
VERSION:2.0
PRODID:-//NHHS - Norges Handelshøyskoles Studentforening - ECPv6.15.20//NONSGML v1.0//EN
CALSCALE:GREGORIAN
METHOD:PUBLISH
X-ORIGINAL-URL:https://nhhs.no
X-WR-CALDESC:Arrangement for NHHS - Norges Handelshøyskoles Studentforening
REFRESH-INTERVAL;VALUE=DURATION:PT1H
X-Robots-Tag:noindex
X-PUBLISHED-TTL:PT1H
BEGIN:VTIMEZONE
TZID:Europe/Oslo
BEGIN:DAYLIGHT
TZOFFSETFROM:+0100
TZOFFSETTO:+0200
TZNAME:CEST
DTSTART:20240331T010000
END:DAYLIGHT
BEGIN:STANDARD
TZOFFSETFROM:+0200
TZOFFSETTO:+0100
TZNAME:CET
DTSTART:20241027T010000
END:STANDARD
BEGIN:DAYLIGHT
TZOFFSETFROM:+0100
TZOFFSETTO:+0200
TZNAME:CEST
DTSTART:20250330T010000
END:DAYLIGHT
BEGIN:STANDARD
TZOFFSETFROM:+0200
TZOFFSETTO:+0100
TZNAME:CET
DTSTART:20251026T010000
END:STANDARD
BEGIN:DAYLIGHT
TZOFFSETFROM:+0100
TZOFFSETTO:+0200
TZNAME:CEST
DTSTART:20260329T010000
END:DAYLIGHT
BEGIN:STANDARD
TZOFFSETFROM:+0200
TZOFFSETTO:+0100
TZNAME:CET
DTSTART:20261025T010000
END:STANDARD
END:VTIMEZONE
BEGIN:VEVENT
DTSTART;TZID=Europe/Oslo:20251204T100000
DTEND;TZID=Europe/Oslo:20251204T140000
DTSTAMP:20260422T042240
CREATED:20251105T235935Z
LAST-MODIFIED:20251203T234437Z
UID:14420-1764842400-1764856800@nhhs.no
SUMMARY:Massage (Avbrekk)
DESCRIPTION:Registration and more information will be posted here: https://fb.me/e/8AoBhav4L
URL:https://nhhs.no/arrangement/massage-avbrekk-2/
CATEGORIES:Avbrekk
END:VEVENT
BEGIN:VEVENT
DTSTART;TZID=Europe/Oslo:20251204T130000
DTEND;TZID=Europe/Oslo:20251204T140000
DTSTAMP:20260422T042240
CREATED:20251110T235932Z
LAST-MODIFIED:20251203T234437Z
UID:14459-1764853200-1764856800@nhhs.no
SUMMARY:Exam Lunch! (Avbrekk)
DESCRIPTION:Registration and more information will be posted here: https://fb.me/e/8AoBhav4L
URL:https://nhhs.no/arrangement/exam-lunch-avbrekk-2/
CATEGORIES:Avbrekk
END:VEVENT
END:VCALENDAR