BEGIN:VCALENDAR
VERSION:2.0
PRODID:-//NHHS - Norges Handelshøyskoles Studentforening - ECPv6.15.20//NONSGML v1.0//EN
CALSCALE:GREGORIAN
METHOD:PUBLISH
X-WR-CALNAME:NHHS - Norges Handelshøyskoles Studentforening
X-ORIGINAL-URL:https://nhhs.no
X-WR-CALDESC:Arrangement for NHHS - Norges Handelshøyskoles Studentforening
REFRESH-INTERVAL;VALUE=DURATION:PT1H
X-Robots-Tag:noindex
X-PUBLISHED-TTL:PT1H
BEGIN:VTIMEZONE
TZID:Europe/Oslo
BEGIN:DAYLIGHT
TZOFFSETFROM:+0100
TZOFFSETTO:+0200
TZNAME:CEST
DTSTART:20240331T010000
END:DAYLIGHT
BEGIN:STANDARD
TZOFFSETFROM:+0200
TZOFFSETTO:+0100
TZNAME:CET
DTSTART:20241027T010000
END:STANDARD
BEGIN:DAYLIGHT
TZOFFSETFROM:+0100
TZOFFSETTO:+0200
TZNAME:CEST
DTSTART:20250330T010000
END:DAYLIGHT
BEGIN:STANDARD
TZOFFSETFROM:+0200
TZOFFSETTO:+0100
TZNAME:CET
DTSTART:20251026T010000
END:STANDARD
BEGIN:DAYLIGHT
TZOFFSETFROM:+0100
TZOFFSETTO:+0200
TZNAME:CEST
DTSTART:20260329T010000
END:DAYLIGHT
BEGIN:STANDARD
TZOFFSETFROM:+0200
TZOFFSETTO:+0100
TZNAME:CET
DTSTART:20261025T010000
END:STANDARD
END:VTIMEZONE
BEGIN:VEVENT
DTSTART;TZID=Europe/Oslo:20251203T121500
DTEND;TZID=Europe/Oslo:20251203T130000
DTSTAMP:20260422T042112
CREATED:20251030T232938Z
LAST-MODIFIED:20251202T234437Z
UID:14357-1764764100-1764766800@nhhs.no
SUMMARY:Christmas Concert w/Sangria (Avbrekk)
DESCRIPTION:Find information about registrations and everything happening in Avbrekk here: https://fb.me/e/8AoBhav4L
URL:https://nhhs.no/arrangement/christmas-concert-w-sangria-avbrekk/
LOCATION:The Main Entrance (NHH)
CATEGORIES:Avbrekk
END:VEVENT
BEGIN:VEVENT
DTSTART;TZID=Europe/Oslo:20251203T170000
DTEND;TZID=Europe/Oslo:20251203T190000
DTSTAMP:20260422T042112
CREATED:20251111T235928Z
LAST-MODIFIED:20251202T234437Z
UID:14472-1764781200-1764788400@nhhs.no
SUMMARY:Complain n sip w/SPU (Avbrekk)
DESCRIPTION:Find more information about everything happening in Avbrekk here: https://fb.me/e/8AoBhav4L
URL:https://nhhs.no/arrangement/complain-n-sip-w-spu-avbrekk/
CATEGORIES:Avbrekk
END:VEVENT
BEGIN:VEVENT
DTSTART;TZID=Europe/Oslo:20251203T190000
DTEND;TZID=Europe/Oslo:20251203T200000
DTSTAMP:20260422T042112
CREATED:20251030T232938Z
LAST-MODIFIED:20251202T234437Z
UID:14355-1764788400-1764792000@nhhs.no
SUMMARY:Hike with Opptur (Avbrekk)
DESCRIPTION:Find information about registrations and everything happening in Avbrekk here: https://fb.me/e/8AoBhav4L
URL:https://nhhs.no/arrangement/hike-with-opptur-avbrekk-2/
CATEGORIES:Avbrekk
END:VEVENT
END:VCALENDAR