BEGIN:VCALENDAR
VERSION:2.0
PRODID:-//NHHS - Norges Handelshøyskoles Studentforening - ECPv6.15.20//NONSGML v1.0//EN
CALSCALE:GREGORIAN
METHOD:PUBLISH
X-WR-CALNAME:NHHS - Norges Handelshøyskoles Studentforening
X-ORIGINAL-URL:https://nhhs.no
X-WR-CALDESC:Arrangement for NHHS - Norges Handelshøyskoles Studentforening
REFRESH-INTERVAL;VALUE=DURATION:PT1H
X-Robots-Tag:noindex
X-PUBLISHED-TTL:PT1H
BEGIN:VTIMEZONE
TZID:Europe/Oslo
BEGIN:DAYLIGHT
TZOFFSETFROM:+0100
TZOFFSETTO:+0200
TZNAME:CEST
DTSTART:20240331T010000
END:DAYLIGHT
BEGIN:STANDARD
TZOFFSETFROM:+0200
TZOFFSETTO:+0100
TZNAME:CET
DTSTART:20241027T010000
END:STANDARD
BEGIN:DAYLIGHT
TZOFFSETFROM:+0100
TZOFFSETTO:+0200
TZNAME:CEST
DTSTART:20250330T010000
END:DAYLIGHT
BEGIN:STANDARD
TZOFFSETFROM:+0200
TZOFFSETTO:+0100
TZNAME:CET
DTSTART:20251026T010000
END:STANDARD
BEGIN:DAYLIGHT
TZOFFSETFROM:+0100
TZOFFSETTO:+0200
TZNAME:CEST
DTSTART:20260329T010000
END:DAYLIGHT
BEGIN:STANDARD
TZOFFSETFROM:+0200
TZOFFSETTO:+0100
TZNAME:CET
DTSTART:20261025T010000
END:STANDARD
END:VTIMEZONE
BEGIN:VEVENT
DTSTART;TZID=Europe/Oslo:20251106T163000
DTEND;TZID=Europe/Oslo:20251106T235500
DTSTAMP:20260422T052624
CREATED:20250929T205432Z
LAST-MODIFIED:20251106T221425Z
UID:13847-1762446600-1762473300@nhhs.no
SUMMARY:Pareto Securities
DESCRIPTION:
URL:https://nhhs.no/arrangement/pareto-securities/
CATEGORIES:Karriere
END:VEVENT
BEGIN:VEVENT
DTSTART;TZID=Europe/Oslo:20251106T170000
DTEND;TZID=Europe/Oslo:20251106T190000
DTSTAMP:20260422T052624
CREATED:20251029T231431Z
LAST-MODIFIED:20251105T235934Z
UID:14337-1762448400-1762455600@nhhs.no
SUMMARY:Avalanche Safety Night w/Lurken (Avbrekk)
DESCRIPTION:Find information about registrations and everything happening in Avbrekk here: https://fb.me/e/8AoBhav4L
URL:https://nhhs.no/arrangement/avalanche-safety-night-w-lurken-avbrekk/
LOCATION:Aud Q\, NHH
CATEGORIES:Avbrekk
END:VEVENT
END:VCALENDAR